BEGIN:VCALENDAR
VERSION:2.0
PRODID:-//Svenska Ju-jutsuförbundet - ECPv6.15.20//NONSGML v1.0//EN
CALSCALE:GREGORIAN
METHOD:PUBLISH
X-WR-CALNAME:Svenska Ju-jutsuförbundet
X-ORIGINAL-URL:https://ju-jutsukai.se
X-WR-CALDESC:Händelser för Svenska Ju-jutsuförbundet
REFRESH-INTERVAL;VALUE=DURATION:PT1H
X-Robots-Tag:noindex
X-PUBLISHED-TTL:PT1H
BEGIN:VTIMEZONE
TZID:Europe/Stockholm
BEGIN:DAYLIGHT
TZOFFSETFROM:+0100
TZOFFSETTO:+0200
TZNAME:CEST
DTSTART:20240331T010000
END:DAYLIGHT
BEGIN:STANDARD
TZOFFSETFROM:+0200
TZOFFSETTO:+0100
TZNAME:CET
DTSTART:20241027T010000
END:STANDARD
BEGIN:DAYLIGHT
TZOFFSETFROM:+0100
TZOFFSETTO:+0200
TZNAME:CEST
DTSTART:20250330T010000
END:DAYLIGHT
BEGIN:STANDARD
TZOFFSETFROM:+0200
TZOFFSETTO:+0100
TZNAME:CET
DTSTART:20251026T010000
END:STANDARD
BEGIN:DAYLIGHT
TZOFFSETFROM:+0100
TZOFFSETTO:+0200
TZNAME:CEST
DTSTART:20260329T010000
END:DAYLIGHT
BEGIN:STANDARD
TZOFFSETFROM:+0200
TZOFFSETTO:+0100
TZNAME:CET
DTSTART:20261025T010000
END:STANDARD
END:VTIMEZONE
BEGIN:VEVENT
DTSTART;TZID=Europe/Stockholm:20251003T190000
DTEND;TZID=Europe/Stockholm:20251005T153000
DTSTAMP:20260422T105236
CREATED:20251003T190215Z
LAST-MODIFIED:20260227T121614Z
UID:8083-1759518000-1759678200@ju-jutsukai.se
SUMMARY:Höstläger i Uppsala 3-5 oktober
DESCRIPTION:Välkommen på Höstläger i Uppsala\, lägret med extra allt! Kom och träna både ute och inne\, i gi och i vanliga kläder. Finputsa dina tekniker på mattan och tillämpa ju-jutsu i olika miljöer! Vi erbjuder rolig och svettig träning för duktiga instruktörer. Gemensamt restaurangbesök på lördagskvällen anordnas för trevligt häng. Hjärtligt välkommen!
URL:https://ju-jutsukai.se/event/hostlager-i-uppsala-3-5-oktober/
LOCATION:Uppsala Ju-jutsuklubb\, Söderbergska huset\, Bergsbrunnagatan 1\, Uppsala\, 75323\, Sweden
CATEGORIES:Läger
ORGANIZER;CN="Ylva Naeser":MAILTO:ylva.naeser@ujjk.se
END:VEVENT
BEGIN:VEVENT
DTSTART;TZID=Europe/Stockholm:20251004T100000
DTEND;TZID=Europe/Stockholm:20251004T170000
DTSTAMP:20260422T105236
CREATED:20251003T190712Z
LAST-MODIFIED:20260227T121614Z
UID:8087-1759572000-1759597200@ju-jutsukai.se
SUMMARY:Läger i Växjö med Ola
DESCRIPTION:Ola Johanson undervisar i Ju-jutsu Kais reviderade graderingssystem från 2024\, med inriktning grundläggande tekniker och grundtekniker fram till lunch\, och därefter utvalda jigo waza till deltagarnas kommande graderingar\, samt något om renraku waza\, yakusoku geiko och randori. \nEtt endagsläger för vuxna (alla grader) för dig som tränar Ju-jutsu Kai. Inriktningen är grundtekniker\, försvarstekniker och kombinationer. Men inte så inriktat på en viss grad\, utan alla tränar samma tekniker från olika grader. \nAffisch
URL:https://ju-jutsukai.se/event/lager-i-vaxjo-med-ola/
LOCATION:Växjö Ju-jutsuklubb\, Kampastigen 2\, Växjö\, 35234\, Sweden
CATEGORIES:Läger
ORGANIZER;CN="Ola Johanson":MAILTO:ola.johanson@ju-jutsu.se
END:VEVENT
END:VCALENDAR