BEGIN:VCALENDAR
VERSION:2.0
PRODID:-//Svenska Ju-jutsuförbundet - ECPv6.15.20//NONSGML v1.0//EN
CALSCALE:GREGORIAN
METHOD:PUBLISH
X-WR-CALNAME:Svenska Ju-jutsuförbundet
X-ORIGINAL-URL:https://ju-jutsukai.se
X-WR-CALDESC:Händelser för Svenska Ju-jutsuförbundet
REFRESH-INTERVAL;VALUE=DURATION:PT1H
X-Robots-Tag:noindex
X-PUBLISHED-TTL:PT1H
BEGIN:VTIMEZONE
TZID:Europe/Stockholm
BEGIN:DAYLIGHT
TZOFFSETFROM:+0100
TZOFFSETTO:+0200
TZNAME:CEST
DTSTART:20240331T010000
END:DAYLIGHT
BEGIN:STANDARD
TZOFFSETFROM:+0200
TZOFFSETTO:+0100
TZNAME:CET
DTSTART:20241027T010000
END:STANDARD
BEGIN:DAYLIGHT
TZOFFSETFROM:+0100
TZOFFSETTO:+0200
TZNAME:CEST
DTSTART:20250330T010000
END:DAYLIGHT
BEGIN:STANDARD
TZOFFSETFROM:+0200
TZOFFSETTO:+0100
TZNAME:CET
DTSTART:20251026T010000
END:STANDARD
BEGIN:DAYLIGHT
TZOFFSETFROM:+0100
TZOFFSETTO:+0200
TZNAME:CEST
DTSTART:20260329T010000
END:DAYLIGHT
BEGIN:STANDARD
TZOFFSETFROM:+0200
TZOFFSETTO:+0100
TZNAME:CET
DTSTART:20261025T010000
END:STANDARD
END:VTIMEZONE
BEGIN:VEVENT
DTSTART;TZID=Europe/Stockholm:20251011T100000
DTEND;TZID=Europe/Stockholm:20251011T100000
DTSTAMP:20260422T105403
CREATED:20251004T190349Z
LAST-MODIFIED:20260227T121614Z
UID:8173-1760176800-1760176800@ju-jutsukai.se
SUMMARY:Svartbälteskurs 11-12/10 i Uppsala
DESCRIPTION:Svenska Ju-jutsuförbundet inbjuder återigen till en fullspäckad svartbälteskurs den 11-12 oktober 2025 i Uppsala.\nSom tidigare finns det bara 60 platser\, först till kvarn är det som gäller\, så vänta inte utan anmäl er snarast. \nAnmälan skall ske till kansli@ju-jutsu.se senast den 15 september 2025 och ska innehålla\, Namn\, grad\, klubb\, mailadress och till vem fakturan skall gå klubb eller deltagaren\, samt även om ni vill bo i dojon. \nInstruktörer \n\n			\n				\n			\n				\n				Bertil Bergdahl\n				\n			\n				\n			\n				\n				Anders Bergström\n				\n			\n				\n			\n				\n				Tony Hansson
URL:https://ju-jutsukai.se/event/svartbalteskurs-11-12-10-i-uppsala-installd/
LOCATION:Uppsala Ju-jutsuklubb\, Söderbergska huset\, Bergsbrunnagatan 1\, Uppsala\, 75323\, Sweden
CATEGORIES:Kurser,Läger,Svenska Ju-jutsuförbundet
ORGANIZER;CN="Bertil Bergdahl":MAILTO:kansli@ju-jutsu.se
END:VEVENT
BEGIN:VEVENT
DTSTART;TZID=Europe/Stockholm:20251011T100000
DTEND;TZID=Europe/Stockholm:20251011T170000
DTSTAMP:20260422T105403
CREATED:20251004T190828Z
LAST-MODIFIED:20260227T121614Z
UID:8175-1760176800-1760202000@ju-jutsukai.se
SUMMARY:Malmöläger
DESCRIPTION:Lördagen den 11 oktober kl. 10.00–16.00 bjuder Malmö Ju-jutsuklubb in till ett läger för alla kyu/dangrader.\nDet blir en dag med fokus på träning\, teknik och utveckling\, men också på gemenskapen mellan klubbarna. Lägret är ett bra tillfälle att träffa andra ju-jutsuutövare\, utbyta erfarenheter och inspireras av varandras sätt att träna.\nVarmt välkommen att delta!
URL:https://ju-jutsukai.se/event/malmolager/
LOCATION:Malmö Ju-jutsuklubb\, Geijersgatan 2\, Limhamn\, 21133\, Sweden
CATEGORIES:Läger,Svenska Ju-jutsuförbundet
ORGANIZER;CN="Fanny S%C3%B6derlund":MAILTO:ordforande@mjjk.com
END:VEVENT
END:VCALENDAR