BEGIN:VCALENDAR
VERSION:2.0
PRODID:-//Svenska Ju-jutsuförbundet - ECPv6.15.20//NONSGML v1.0//EN
CALSCALE:GREGORIAN
METHOD:PUBLISH
X-ORIGINAL-URL:https://ju-jutsukai.se
X-WR-CALDESC:Händelser för Svenska Ju-jutsuförbundet
REFRESH-INTERVAL;VALUE=DURATION:PT1H
X-Robots-Tag:noindex
X-PUBLISHED-TTL:PT1H
BEGIN:VTIMEZONE
TZID:Europe/Stockholm
BEGIN:DAYLIGHT
TZOFFSETFROM:+0100
TZOFFSETTO:+0200
TZNAME:CEST
DTSTART:20240331T010000
END:DAYLIGHT
BEGIN:STANDARD
TZOFFSETFROM:+0200
TZOFFSETTO:+0100
TZNAME:CET
DTSTART:20241027T010000
END:STANDARD
BEGIN:DAYLIGHT
TZOFFSETFROM:+0100
TZOFFSETTO:+0200
TZNAME:CEST
DTSTART:20250330T010000
END:DAYLIGHT
BEGIN:STANDARD
TZOFFSETFROM:+0200
TZOFFSETTO:+0100
TZNAME:CET
DTSTART:20251026T010000
END:STANDARD
BEGIN:DAYLIGHT
TZOFFSETFROM:+0100
TZOFFSETTO:+0200
TZNAME:CEST
DTSTART:20260329T010000
END:DAYLIGHT
BEGIN:STANDARD
TZOFFSETFROM:+0200
TZOFFSETTO:+0100
TZNAME:CET
DTSTART:20261025T010000
END:STANDARD
END:VTIMEZONE
BEGIN:VEVENT
DTSTART;TZID=Europe/Stockholm:20251018T100000
DTEND;TZID=Europe/Stockholm:20251018T180000
DTSTAMP:20260422T105604
CREATED:20251004T191331Z
LAST-MODIFIED:20260227T121614Z
UID:8181-1760781600-1760810400@ju-jutsukai.se
SUMMARY:Utvecklingskurs för barninstruktörer i Kalmar 18/10 2025
DESCRIPTION:Välkommen till Svenska ju-jutsuförbundets utvecklingskurs för barn- och ungdomsinstruktörer. \nPå programmet: Nya Sho-systemet\, motorik och inlärning\, ledarskap i barngrupp\, hur sätter vi gränser med respekt\, inspirationspass samt instruktionsteknik. \n  \n 
URL:https://ju-jutsukai.se/event/utvecklingskurs-for-barninstruktorer-i-kalmar-18-10-2025/
LOCATION:Kalmar Budoklubb\, Smålandsgatan 21\, Kalmar\, 39234\, Sweden
CATEGORIES:Kurser,Svenska Ju-jutsuförbundet
ORGANIZER;CN="Richard Holm":MAILTO:richard.holm@budohoor.se
END:VEVENT
BEGIN:VEVENT
DTSTART;TZID=Europe/Stockholm:20251018T110000
DTEND;TZID=Europe/Stockholm:20251018T170000
DTSTAMP:20260422T105604
CREATED:20251004T191947Z
LAST-MODIFIED:20260227T121557Z
UID:8187-1760785200-1760806800@ju-jutsukai.se
SUMMARY:Östgötalägret i Linköping 18 oktober 2025
DESCRIPTION:Dags för ett gemensamt träningsläger för ju-jutsuklubbar i Östergötland med omnejd. Vi träffas och tränar tillsammans. Det blir viktiga grunder\, tekniker på olika nivåer och fart. \nAnmälan Klubbvis till anders.bergstrom@ju-jutsu.se senast den 5/10. \n 
URL:https://ju-jutsukai.se/event/ostgotalagret-i-linkoping-18-oktober-2025/
LOCATION:Linköpings Budoklubb\, Björnkärrsgatan 14\, Linköping\, 58436\, Sweden
CATEGORIES:Läger,Svenska Ju-jutsuförbundet
ORGANIZER;CN="Anders Bergstr%C3%B6m":MAILTO:anders.bergstrom@ju-jutsu.se
END:VEVENT
END:VCALENDAR