BEGIN:VCALENDAR
VERSION:2.0
PRODID:-//Svenska Ju-jutsuförbundet - ECPv6.15.20//NONSGML v1.0//EN
CALSCALE:GREGORIAN
METHOD:PUBLISH
X-ORIGINAL-URL:https://ju-jutsukai.se
X-WR-CALDESC:Händelser för Svenska Ju-jutsuförbundet
REFRESH-INTERVAL;VALUE=DURATION:PT1H
X-Robots-Tag:noindex
X-PUBLISHED-TTL:PT1H
BEGIN:VTIMEZONE
TZID:Europe/Stockholm
BEGIN:DAYLIGHT
TZOFFSETFROM:+0100
TZOFFSETTO:+0200
TZNAME:CEST
DTSTART:20240331T010000
END:DAYLIGHT
BEGIN:STANDARD
TZOFFSETFROM:+0200
TZOFFSETTO:+0100
TZNAME:CET
DTSTART:20241027T010000
END:STANDARD
BEGIN:DAYLIGHT
TZOFFSETFROM:+0100
TZOFFSETTO:+0200
TZNAME:CEST
DTSTART:20250330T010000
END:DAYLIGHT
BEGIN:STANDARD
TZOFFSETFROM:+0200
TZOFFSETTO:+0100
TZNAME:CET
DTSTART:20251026T010000
END:STANDARD
BEGIN:DAYLIGHT
TZOFFSETFROM:+0100
TZOFFSETTO:+0200
TZNAME:CEST
DTSTART:20260329T010000
END:DAYLIGHT
BEGIN:STANDARD
TZOFFSETFROM:+0200
TZOFFSETTO:+0100
TZNAME:CET
DTSTART:20261025T010000
END:STANDARD
END:VTIMEZONE
BEGIN:VEVENT
DTSTART;TZID=Europe/Stockholm:20251031T180000
DTEND;TZID=Europe/Stockholm:20251031T180000
DTSTAMP:20260422T090248
CREATED:20251013T192516Z
LAST-MODIFIED:20260227T121557Z
UID:8260-1761933600-1761933600@ju-jutsukai.se
SUMMARY:Nya Norrlandslägret i Umeå 31/10-2/11 2025
DESCRIPTION:Svenska Ju-jutsuförbundet inbjuder till året Nya Norrlandslägret 31/10-2/11 2025. \n  \n\n\n\nRiksinstruktör\nStefan Forsman 6 Dan\n\n\n\n\nFörbundsinstruktör\nYlva Naeser 5 Dan\n\n\nFörbundsinstruktör\nDavid Gülger 5 Dan\n\n\nFörbundsinstruktör\nOla Sunding 5 Dan\n\n\nFörbundsinstruktör\nIda Thorsell 4 Dan\n\n\nSteg 5 instruktör\nChristian Carlson 3 Dan\n\n\n\n  \n\n\n\nAnmälan\nSkickas till kansli@ju-jutsu.se gärna klubbvis senast 17 oktober 2025 Fyll i namn\, klubb\, grad och boende samt hur du skall bo
URL:https://ju-jutsukai.se/event/nya-norrlandslagret-i-umea-31-10-2-11-2025/
LOCATION:Dragonskolan i Umeå\, Dragongatan 1\, Umeå\, 90322\, Sweden
CATEGORIES:Läger
ORGANIZER;CN="Bertil Bergdahl":MAILTO:kansli@ju-jutsu.se
END:VEVENT
END:VCALENDAR