BEGIN:VCALENDAR
VERSION:2.0
PRODID:-//Svenska Ju-jutsuförbundet - ECPv6.15.20//NONSGML v1.0//EN
CALSCALE:GREGORIAN
METHOD:PUBLISH
X-WR-CALNAME:Svenska Ju-jutsuförbundet
X-ORIGINAL-URL:https://ju-jutsukai.se
X-WR-CALDESC:Händelser för Svenska Ju-jutsuförbundet
REFRESH-INTERVAL;VALUE=DURATION:PT1H
X-Robots-Tag:noindex
X-PUBLISHED-TTL:PT1H
BEGIN:VTIMEZONE
TZID:Europe/Stockholm
BEGIN:DAYLIGHT
TZOFFSETFROM:+0100
TZOFFSETTO:+0200
TZNAME:CEST
DTSTART:20240331T010000
END:DAYLIGHT
BEGIN:STANDARD
TZOFFSETFROM:+0200
TZOFFSETTO:+0100
TZNAME:CET
DTSTART:20241027T010000
END:STANDARD
BEGIN:DAYLIGHT
TZOFFSETFROM:+0100
TZOFFSETTO:+0200
TZNAME:CEST
DTSTART:20250330T010000
END:DAYLIGHT
BEGIN:STANDARD
TZOFFSETFROM:+0200
TZOFFSETTO:+0100
TZNAME:CET
DTSTART:20251026T010000
END:STANDARD
BEGIN:DAYLIGHT
TZOFFSETFROM:+0100
TZOFFSETTO:+0200
TZNAME:CEST
DTSTART:20260329T010000
END:DAYLIGHT
BEGIN:STANDARD
TZOFFSETFROM:+0200
TZOFFSETTO:+0100
TZNAME:CET
DTSTART:20261025T010000
END:STANDARD
END:VTIMEZONE
BEGIN:VEVENT
DTSTART;TZID=Europe/Stockholm:20251128T180000
DTEND;TZID=Europe/Stockholm:20251130T160000
DTSTAMP:20260422T071118
CREATED:20251004T192457Z
LAST-MODIFIED:20260227T121557Z
UID:8191-1764352800-1764518400@ju-jutsukai.se
SUMMARY:Jubileumsläger Luleå Ju-jutsuklubb 50 år
DESCRIPTION:Luleå Ju-jutsuklubb firar 50 år med ett jubileumsläger! \nPå lördag kväll blir det en lägermiddag för självskostnadspris. \n\n\n\nInstruktörer\n\n\n\nStilchef\nBertil Bergdahl 9 Dan\n\n\nRiksinstruktör\nTony Hansson 8 Dan\n\n\nHedersinstruktör\nUlf Bäckström 8 Dan\n\n\nFörbundsinstruktör\nJonas Mokvist 6 Dan\n\n\nSteg 5 instruktör\nLudvig Johansson 4 Dan\n\n\n\n  \n\n\n\nAnmälan\nVia formulär\n\n\n\n  \n\n\n\nKostnad kyu/dan\n500 kr\n\n\nKostnad mon\n200 kr\n\n\nPlusgiro\n4 356 642-1\n\n\nSwish\n123 582 10 04
URL:https://ju-jutsukai.se/event/jubileumslager-lulea-ju-jutsuklubb-50-ar/
LOCATION:Luleå Ju-jutsuklubb\, Edeforsgatan 65 G\, Luleå\, 97439\, Sweden
CATEGORIES:Läger,Svenska Ju-jutsuförbundet
ORGANIZER;CN="Liam Larsson":MAILTO:llarsson2007@gmail.com
END:VEVENT
BEGIN:VEVENT
DTSTART;TZID=Europe/Stockholm:20251129T170000
DTEND;TZID=Europe/Stockholm:20251129T200000
DTSTAMP:20260422T071118
CREATED:20251003T183801Z
LAST-MODIFIED:20260227T121557Z
UID:8066-1764435600-1764446400@ju-jutsukai.se
SUMMARY:Dangradering till 1 dan i Luleå lördag 29 november 2025
DESCRIPTION:RGK inbjuder till dangradering till 1 dan gradering i Luleå lördag  den 29 november 2025. Anmälan sker på bifogad blankett. \n\n\n\n\n  \n\n\nRiksgraderingskommitté\n \n\n\n Stilchef\nBertil Bergdahl\, 9e Dan\n\n\n Riksinstruktör\nTony Hansson\, 8e Dan\n\n\n Förbundsinstruktör\nJonas Mokvist\, 6e Dan\n\n\n\n 
URL:https://ju-jutsukai.se/event/dangradering-till-1-dan-i-lulea-lordag-29-november-2025/
LOCATION:Luleå Ju-jutsuklubb\, Edeforsgatan 65 G\, Luleå\, 97439\, Sweden
CATEGORIES:Dangradering
ORGANIZER;CN="Bertil Bergdahl":MAILTO:kansli@ju-jutsu.se
END:VEVENT
END:VCALENDAR