BEGIN:VCALENDAR
VERSION:2.0
PRODID:-//Svenska Ju-jutsuförbundet - ECPv6.15.20//NONSGML v1.0//EN
CALSCALE:GREGORIAN
METHOD:PUBLISH
X-ORIGINAL-URL:https://ju-jutsukai.se
X-WR-CALDESC:Händelser för Svenska Ju-jutsuförbundet
REFRESH-INTERVAL;VALUE=DURATION:PT1H
X-Robots-Tag:noindex
X-PUBLISHED-TTL:PT1H
BEGIN:VTIMEZONE
TZID:Europe/Stockholm
BEGIN:DAYLIGHT
TZOFFSETFROM:+0100
TZOFFSETTO:+0200
TZNAME:CEST
DTSTART:20250330T010000
END:DAYLIGHT
BEGIN:STANDARD
TZOFFSETFROM:+0200
TZOFFSETTO:+0100
TZNAME:CET
DTSTART:20251026T010000
END:STANDARD
BEGIN:DAYLIGHT
TZOFFSETFROM:+0100
TZOFFSETTO:+0200
TZNAME:CEST
DTSTART:20260329T010000
END:DAYLIGHT
BEGIN:STANDARD
TZOFFSETFROM:+0200
TZOFFSETTO:+0100
TZNAME:CET
DTSTART:20261025T010000
END:STANDARD
BEGIN:DAYLIGHT
TZOFFSETFROM:+0100
TZOFFSETTO:+0200
TZNAME:CEST
DTSTART:20270328T010000
END:DAYLIGHT
BEGIN:STANDARD
TZOFFSETFROM:+0200
TZOFFSETTO:+0100
TZNAME:CET
DTSTART:20271031T010000
END:STANDARD
END:VTIMEZONE
BEGIN:VEVENT
DTSTART;TZID=Europe/Stockholm:20260803T150000
DTEND;TZID=Europe/Stockholm:20260807T130000
DTSTAMP:20260420T035248
CREATED:20251123T111643Z
LAST-MODIFIED:20260415T200728Z
UID:8424-1785769200-1786107600@ju-jutsukai.se
SUMMARY:Sommarläger i Borgholm 3-7 augusti 2026
DESCRIPTION:Svenska Ju-jutsuförbundet inbjuder till sommarläger i Borgholm på Öland 3-7 augusti 2026. \n\n\n\nInstruktörerStilchef Bertil Bergdahl 9 DanRiksinstruktör Anders Bergström 8 DanRiksinstruktörTony Hansson 8 DanFörbundsinstruktörYlva Naeser 6 DanFörbundsinstruktörDavid Gülger 6 Danmed flera\n\n\n\nBoendeI skolsalar eller på hotell (får man boka själv) Det finns flera campingplatser att tillgå. Kapelluddens camping c:a 700-800 m från hallen. Köpingsviks camping c:a 5 km från hallen\n\n\n\nÖvrigt KostnadBetalning senast 30 juni 2500 kr inkl träning\, boende i skolsal och frukostBetalning efter 30 juni 3000 kr inkl träning\, boende i skolsal och frukostÖvrigt se affischenAnmälanAnmälan skickas till kansli@ju-jutsu.se gärna klubbvis enligt datum ovan.Fyll i namn\, klubb\, grad och boende\, hur du skall träna samt eventuella allergier.\n\n\n\nDokument AffischSommarläger 2026
URL:https://ju-jutsukai.se/event/sommarlager-i-borgholm-3-7-augusti-2026/
LOCATION:Borgholms Sporthall\, Södra Esplanaden 26\, Borgholm\, 387 33\, Sweden
CATEGORIES:Läger,Svenska Ju-jutsuförbundet
ORGANIZER;CN="Bertil Bergdahl":MAILTO:kansli@ju-jutsu.se
END:VEVENT
END:VCALENDAR