BEGIN:VCALENDAR
VERSION:2.0
PRODID:-//Svenska Ju-jutsuförbundet - ECPv6.15.20//NONSGML v1.0//EN
CALSCALE:GREGORIAN
METHOD:PUBLISH
X-ORIGINAL-URL:https://ju-jutsukai.se
X-WR-CALDESC:Händelser för Svenska Ju-jutsuförbundet
REFRESH-INTERVAL;VALUE=DURATION:PT1H
X-Robots-Tag:noindex
X-PUBLISHED-TTL:PT1H
BEGIN:VTIMEZONE
TZID:Europe/Stockholm
BEGIN:DAYLIGHT
TZOFFSETFROM:+0100
TZOFFSETTO:+0200
TZNAME:CEST
DTSTART:20250330T010000
END:DAYLIGHT
BEGIN:STANDARD
TZOFFSETFROM:+0200
TZOFFSETTO:+0100
TZNAME:CET
DTSTART:20251026T010000
END:STANDARD
BEGIN:DAYLIGHT
TZOFFSETFROM:+0100
TZOFFSETTO:+0200
TZNAME:CEST
DTSTART:20260329T010000
END:DAYLIGHT
BEGIN:STANDARD
TZOFFSETFROM:+0200
TZOFFSETTO:+0100
TZNAME:CET
DTSTART:20261025T010000
END:STANDARD
BEGIN:DAYLIGHT
TZOFFSETFROM:+0100
TZOFFSETTO:+0200
TZNAME:CEST
DTSTART:20270328T010000
END:DAYLIGHT
BEGIN:STANDARD
TZOFFSETFROM:+0200
TZOFFSETTO:+0100
TZNAME:CET
DTSTART:20271031T010000
END:STANDARD
END:VTIMEZONE
BEGIN:VEVENT
DTSTART;TZID=Europe/Stockholm:20261031T170000
DTEND;TZID=Europe/Stockholm:20261031T200000
DTSTAMP:20260420T185855
CREATED:20260212T172921Z
LAST-MODIFIED:20260227T121534Z
UID:8720-1793466000-1793476800@ju-jutsukai.se
SUMMARY:Dangradering till 1:a och 2:a dan eller bara till 1:a dan i Umeå 31/10 2026.
DESCRIPTION:Riksgraderingskommittén inbjuder till dangradering till 1:a och 2:a dan eller bara till 1:a dan (beror på hur ansökningarna ser ut) den 31/10 2026.\nAnmälan sker på bifogad blankett Ansökan dangrad 2025
URL:https://ju-jutsukai.se/event/dangradering-till-1a-och-2a-dan-eller-bara-till-1a-dan-i-umea-31-10-2026/
LOCATION:Dragonskolan i Umeå\, Dragongatan 1\, Umeå\, 90322\, Sweden
CATEGORIES:Dangradering,Svenska Ju-jutsuförbundet
ORGANIZER;CN="Bertil Bergdahl":MAILTO:kansli@ju-jutsu.se
END:VEVENT
BEGIN:VEVENT
DTSTART;TZID=Europe/Stockholm:20261205T110000
DTEND;TZID=Europe/Stockholm:20261206T170000
DTSTAMP:20260420T185855
CREATED:20260212T172349Z
LAST-MODIFIED:20260227T121534Z
UID:8718-1796468400-1796576400@ju-jutsukai.se
SUMMARY:Dangradering till 1:a\, 2:a och 3:e dan i Uppsala 5-6/12 2026
DESCRIPTION:Riksgraderingskommittén inbjuder till dangradering till 1:a\, 2:a och 3:e dan i Uppsala den 5-6/12 2026.Anmälan sker på Ansökan dangrad 2025
URL:https://ju-jutsukai.se/event/dangradering-till-1a-2a-och-3e-dan-i-uppsala-5-6-12-2026/
LOCATION:Uppsala Ju-jutsuklubb\, Söderbergska huset\, Bergsbrunnagatan 1\, Uppsala\, 75323\, Sweden
CATEGORIES:Dangradering,Svenska Ju-jutsuförbundet
ORGANIZER;CN="Bertil Bergdahl":MAILTO:kansli@ju-jutsu.se
END:VEVENT
END:VCALENDAR