BEGIN:VCALENDAR
VERSION:2.0
PRODID:-//Svenska Ju-jutsuförbundet - ECPv6.15.20//NONSGML v1.0//EN
CALSCALE:GREGORIAN
METHOD:PUBLISH
X-ORIGINAL-URL:https://ju-jutsukai.se
X-WR-CALDESC:Händelser för Svenska Ju-jutsuförbundet
REFRESH-INTERVAL;VALUE=DURATION:PT1H
X-Robots-Tag:noindex
X-PUBLISHED-TTL:PT1H
BEGIN:VTIMEZONE
TZID:Europe/Stockholm
BEGIN:DAYLIGHT
TZOFFSETFROM:+0100
TZOFFSETTO:+0200
TZNAME:CEST
DTSTART:20250330T010000
END:DAYLIGHT
BEGIN:STANDARD
TZOFFSETFROM:+0200
TZOFFSETTO:+0100
TZNAME:CET
DTSTART:20251026T010000
END:STANDARD
BEGIN:DAYLIGHT
TZOFFSETFROM:+0100
TZOFFSETTO:+0200
TZNAME:CEST
DTSTART:20260329T010000
END:DAYLIGHT
BEGIN:STANDARD
TZOFFSETFROM:+0200
TZOFFSETTO:+0100
TZNAME:CET
DTSTART:20261025T010000
END:STANDARD
BEGIN:DAYLIGHT
TZOFFSETFROM:+0100
TZOFFSETTO:+0200
TZNAME:CEST
DTSTART:20270328T010000
END:DAYLIGHT
BEGIN:STANDARD
TZOFFSETFROM:+0200
TZOFFSETTO:+0100
TZNAME:CET
DTSTART:20271031T010000
END:STANDARD
END:VTIMEZONE
BEGIN:VEVENT
DTSTART;TZID=Europe/Stockholm:20260424T130000
DTEND;TZID=Europe/Stockholm:20260426T150000
DTSTAMP:20260419T153309
CREATED:20260212T202249Z
LAST-MODIFIED:20260227T121535Z
UID:8766-1777035600-1777215600@ju-jutsukai.se
SUMMARY:Steg 2-instruktörskurs i Jönköping
DESCRIPTION:Svenska Ju-jutsuförbundet inbjuder till en Steg 2-instruktörskurs i Ju-jutsu Kai.\nPå programmet: Ledarskap\, instruktörsmetodik\, anatomi\, fysiologi\, idrottsskador\, nödvärn\, graderingsteknik och praktik. \n\n\n\n \n\n\nInstruktörer\n\n\n\nRiksinstruktör\nAnders Bergström\, 8 Dan\n\n\n\n  \n\n\n\n \n\n\nBoende\n\n\n\nHotell\nBokas själv\n\n\nDojo\nSova i dojon 50:-/ natt\, bokas på anmälan\n\n\n\n  \n\n\n\n \n\n\nÖvrigt\n\n\n\nKostnad\n3000:-\, betalas mot faktura innan kursstart\n\n\nAnmälan\nSker på anmälningsblanketten som skickas till kansli@ju-jutsu.se senast den 27 mars 2026. Minst 8 deltagare för kursgenomförande.\n\n\nKrav\nJu-jutsukas med minst 1 Kyu\, samt Steg 1- eller C-licens\n\n\nMedtag\nGi\, ju-jutsupass\, systembok\, monbok\, tidigare kompendier samt kompressionslinda.\n\n\n\n  \n\n\n\n \n\n\nDokument\n\n\n\nAffisch\nSteg 2 kurs i Jönköping\n\n\nAnmälan\nKursanmälan
URL:https://ju-jutsukai.se/event/steg-2-instruktorskurs-i-jonkoping/
LOCATION:Huskvarna Kyokushin Karates dojo\, Stationsgatan 24\, Huskvarna\, 561 33\, Sweden
CATEGORIES:Kurser,Svenska Ju-jutsuförbundet
ORGANIZER;CN="Anders Bergstr%C3%B6m":MAILTO:anders.bergstrom@ju-jutsu.se
END:VEVENT
BEGIN:VEVENT
DTSTART;TZID=Europe/Stockholm:20260425T110000
DTEND;TZID=Europe/Stockholm:20260426T150000
DTSTAMP:20260419T153309
CREATED:20260224T180633Z
LAST-MODIFIED:20260227T121801Z
UID:9021-1777114800-1777215600@ju-jutsukai.se
SUMMARY:Vårmonet 2026
DESCRIPTION:Sveriges största Ju-jutsuläger för knattar\, barn och ungdomar\, Vårmonet\, är äntligen här! Förbered er på en intensiv och rolig helg för barn\, knattar och ungdomar där ett gäng toppen-instruktörer kommer hjälpa kidsen att ta deras färdigheter till nästa nivå. \n\n\n\nInstruktörer: Några av Sveriges bästa barninstruktörer så klart! \n\n\n\nAnmälan ska vara Nybro JJK tillhanda senast fredag 10 april. \n\n\n\n\n\n\n  \n    \n      \n      \n    \n    \n      \n        Logi\n        Sporthallen/dojon\n      \n      \n        Krav\n        Anmälningsavgiften plus ev. avgiften för beställda t-shirt ska vara Nybro JJK tillhanda senast fredag den 17 april på Swish: 123 553 5471 alt. bankgiro 177-3860. Vid sen betalning i närmare anslutning till lägerstart debiterar vi klubben med en extra anmälningsavgift á 595 kr.\n      \n      \n        Medtag\n        Listan kan alltid göras mer eller mindre lång vad kidsen bör ta med sig på ett läger\, men följande kan vara bra att ha med sig: Dräkt/träningskläder\, Sovsäck\, Liggunderlag\, Vattenflaska\, Sköna\, innekläder\, Inneskor\, Hygienartiklar\, Handduk\, Pengar till kiosken och ett glatt humör.\n      \n      \n        Inbjudan\n        Vårmonet 2026\n      \n      \n        Infoblad\n        Vårmonet 2026 info\n      \n      \n        Tekniker och regler för stiltävling\n        Vårmonet 2026 tekniker och regler för stiltävling\n      \n    \n  \n\n\n\n\n\n      \n      \n    BetalningBankgiro177-3860Swish1235535471
URL:https://ju-jutsukai.se/event/varmonet-2026/
LOCATION:Nybro Sporthall\, Tunnelgatan 5\, Nybro\, 382 32\, Sweden
CATEGORIES:Läger
ORGANIZER;CN="V%C3%A5rmonet i Nybro":MAILTO:info@nybrojjk.se
END:VEVENT
END:VCALENDAR